BEGIN:VCALENDAR
VERSION:2.0
PRODID:-//Florida Farm to School - ECPv6.15.20//NONSGML v1.0//EN
CALSCALE:GREGORIAN
METHOD:PUBLISH
X-WR-CALNAME:Florida Farm to School
X-ORIGINAL-URL:https://farmtoschoolfl.com
X-WR-CALDESC:Events for Florida Farm to School
REFRESH-INTERVAL;VALUE=DURATION:PT1H
X-Robots-Tag:noindex
X-PUBLISHED-TTL:PT1H
BEGIN:VTIMEZONE
TZID:America/New_York
BEGIN:DAYLIGHT
TZOFFSETFROM:-0500
TZOFFSETTO:-0400
TZNAME:EDT
DTSTART:20230312T070000
END:DAYLIGHT
BEGIN:STANDARD
TZOFFSETFROM:-0400
TZOFFSETTO:-0500
TZNAME:EST
DTSTART:20231105T060000
END:STANDARD
BEGIN:DAYLIGHT
TZOFFSETFROM:-0500
TZOFFSETTO:-0400
TZNAME:EDT
DTSTART:20240310T070000
END:DAYLIGHT
BEGIN:STANDARD
TZOFFSETFROM:-0400
TZOFFSETTO:-0500
TZNAME:EST
DTSTART:20241103T060000
END:STANDARD
BEGIN:DAYLIGHT
TZOFFSETFROM:-0500
TZOFFSETTO:-0400
TZNAME:EDT
DTSTART:20250309T070000
END:DAYLIGHT
BEGIN:STANDARD
TZOFFSETFROM:-0400
TZOFFSETTO:-0500
TZNAME:EST
DTSTART:20251102T060000
END:STANDARD
END:VTIMEZONE
BEGIN:VEVENT
DTSTART;TZID=America/New_York:20241106T083000
DTEND;TZID=America/New_York:20241106T160000
DTSTAMP:20260425T111440
CREATED:20240909T140046Z
LAST-MODIFIED:20250408T204116Z
UID:10000007-1730881800-1730908800@farmtoschoolfl.com
SUMMARY:Bringing the Farm to School Training (Region 3)
DESCRIPTION:Are you a producer in Central or North-Central Florida looking to expand your business? Do you play a role in purchasing food for students’ school meals? Or maybe you’re a community partner passionate about supporting local agriculture and students’ nutrition? \nJoin the Florida Department of Agriculture and Consumer Services’ Farm to School team for an exclusive training session designed to help connect local farmers and schools!  \nThis free\, 1-day training is open to producers\, School Food Authorities (SFAs) and community partners in Orange\, Marion\, Hernando\, Sumter\, Volusia\, Brevard\, Lake\, Levy\, Seminole and Citrus counties.   \nWhy Attend?  \n\nLearn how Florida’s Farm to School initiative benefits schools and supports regional farmers – and how you can get involved.  \nHear from and network with local schools and producers who have successfully worked together.  \nLearn to navigate the procurement process and key considerations for schools and farmers.  \nDiscover resources available to help schools and farmers collaborate. \nHave your questions answered! \n\n Register now. \nRegistration is required and space is limited. For questions\, please contact Bela.Delgado@fdacs.gov.
URL:https://farmtoschoolfl.com/event/bringing-the-farm-to-school-training-region-3/
LOCATION:Marriott Orlando Airport Lakeside\, 7499 Augusta National Drive\, Orlando\, FL\, 32822\, United States
END:VEVENT
END:VCALENDAR