BEGIN:VCALENDAR
VERSION:2.0
PRODID:-//Florida Farm to School - ECPv6.15.20//NONSGML v1.0//EN
CALSCALE:GREGORIAN
METHOD:PUBLISH
X-WR-CALNAME:Florida Farm to School
X-ORIGINAL-URL:https://farmtoschoolfl.com
X-WR-CALDESC:Events for Florida Farm to School
REFRESH-INTERVAL;VALUE=DURATION:PT1H
X-Robots-Tag:noindex
X-PUBLISHED-TTL:PT1H
BEGIN:VTIMEZONE
TZID:America/New_York
BEGIN:DAYLIGHT
TZOFFSETFROM:-0500
TZOFFSETTO:-0400
TZNAME:EDT
DTSTART:20250309T070000
END:DAYLIGHT
BEGIN:STANDARD
TZOFFSETFROM:-0400
TZOFFSETTO:-0500
TZNAME:EST
DTSTART:20251102T060000
END:STANDARD
BEGIN:DAYLIGHT
TZOFFSETFROM:-0500
TZOFFSETTO:-0400
TZNAME:EDT
DTSTART:20260308T070000
END:DAYLIGHT
BEGIN:STANDARD
TZOFFSETFROM:-0400
TZOFFSETTO:-0500
TZNAME:EST
DTSTART:20261101T060000
END:STANDARD
BEGIN:DAYLIGHT
TZOFFSETFROM:-0500
TZOFFSETTO:-0400
TZNAME:EDT
DTSTART:20270314T070000
END:DAYLIGHT
BEGIN:STANDARD
TZOFFSETFROM:-0400
TZOFFSETTO:-0500
TZNAME:EST
DTSTART:20271107T060000
END:STANDARD
END:VTIMEZONE
BEGIN:VEVENT
DTSTART;TZID=America/New_York:20260319T100000
DTEND;TZID=America/New_York:20260319T110000
DTSTAMP:20260420T105817
CREATED:20260305T174943Z
LAST-MODIFIED:20260305T181957Z
UID:10000581-1773914400-1773918000@farmtoschoolfl.com
SUMMARY:A Farm at School: Florida Farm to School Virtual Town Hall
DESCRIPTION:Calling all Florida Farm to School champions\, educators\, and school nutrition directors! \nJoin the Florida Farm to School team for our upcoming Virtual Town Hall\, as we explore how Roosevelt Farms grew into one of the state’s most established multi-crop production programs over its 31-year journey. \nOur speaker\, Ray Cruze\, agriculture teacher and FFA advisor for Roosevelt Academy\, will share practical\, step-by-step guidance for launching or expanding a school-based farm\, including crop selection\, marketing strategies\, and building strong business partnerships. \nAlong the way we’ll explore various production methods like hydroponics and aquaponics and highlight how farm-based learning can support STEM and Individualized Education Program (IEP) goals while helping students build meaningful vocational and employability skills. \nRegister now
URL:https://farmtoschoolfl.com/event/a-farm-at-school-a-farm-to-school-virtual-town-hall/
LOCATION:Virtual
END:VEVENT
END:VCALENDAR