BEGIN:VCALENDAR
VERSION:2.0
PRODID:-//Florida Farm to School - ECPv6.15.20//NONSGML v1.0//EN
CALSCALE:GREGORIAN
METHOD:PUBLISH
X-WR-CALNAME:Florida Farm to School
X-ORIGINAL-URL:https://farmtoschoolfl.com
X-WR-CALDESC:Events for Florida Farm to School
REFRESH-INTERVAL;VALUE=DURATION:PT1H
X-Robots-Tag:noindex
X-PUBLISHED-TTL:PT1H
BEGIN:VTIMEZONE
TZID:America/New_York
BEGIN:DAYLIGHT
TZOFFSETFROM:-0500
TZOFFSETTO:-0400
TZNAME:EDT
DTSTART:20220313T070000
END:DAYLIGHT
BEGIN:STANDARD
TZOFFSETFROM:-0400
TZOFFSETTO:-0500
TZNAME:EST
DTSTART:20221106T060000
END:STANDARD
BEGIN:DAYLIGHT
TZOFFSETFROM:-0500
TZOFFSETTO:-0400
TZNAME:EDT
DTSTART:20230312T070000
END:DAYLIGHT
BEGIN:STANDARD
TZOFFSETFROM:-0400
TZOFFSETTO:-0500
TZNAME:EST
DTSTART:20231105T060000
END:STANDARD
BEGIN:DAYLIGHT
TZOFFSETFROM:-0500
TZOFFSETTO:-0400
TZNAME:EDT
DTSTART:20240310T070000
END:DAYLIGHT
BEGIN:STANDARD
TZOFFSETFROM:-0400
TZOFFSETTO:-0500
TZNAME:EST
DTSTART:20241103T060000
END:STANDARD
BEGIN:DAYLIGHT
TZOFFSETFROM:-0500
TZOFFSETTO:-0400
TZNAME:EDT
DTSTART:20250309T070000
END:DAYLIGHT
BEGIN:STANDARD
TZOFFSETFROM:-0400
TZOFFSETTO:-0500
TZNAME:EST
DTSTART:20251102T060000
END:STANDARD
END:VTIMEZONE
BEGIN:VEVENT
DTSTART;TZID=America/New_York:20241019T080000
DTEND;TZID=America/New_York:20241019T170000
DTSTAMP:20260419T113858
CREATED:20241014T191259Z
LAST-MODIFIED:20241014T191259Z
UID:10000009-1729324800-1729357200@farmtoschoolfl.com
SUMMARY:Miami EdFund IDEA Expo
DESCRIPTION:At this event\, FDACS Farm to School Coordinator will give a presentation focusing on school gardens.
URL:https://farmtoschoolfl.com/event/miami-edfund-idea-expo/
END:VEVENT
BEGIN:VEVENT
DTSTART;TZID=America/New_York:20241015T080000
DTEND;TZID=America/New_York:20241017T170000
DTSTAMP:20260419T113858
CREATED:20241014T190902Z
LAST-MODIFIED:20241014T190902Z
UID:10000008-1728979200-1729184400@farmtoschoolfl.com
SUMMARY:Sunbelt Ag Expo
DESCRIPTION:Florida is the 2024 Spotlight State during the 46th Sunbelt Ag Expo in Moultrie\, GA.
URL:https://farmtoschoolfl.com/event/sunbelt-ag-expo/
END:VEVENT
BEGIN:VEVENT
DTSTART;TZID=America/New_York:20240417T083000
DTEND;TZID=America/New_York:20240417T160000
DTSTAMP:20260419T113858
CREATED:20240311T174537Z
LAST-MODIFIED:20240908T003506Z
UID:10000006-1713342600-1713369600@farmtoschoolfl.com
SUMMARY:Bringing the Farm to School Training (Region 2)
DESCRIPTION:Farmers\, fishers\, ranchers\, food processors and food manufacturers in Hamilton\, Suwannee\, Lafayette\, Dixie\, Gilchrist\, Alachua\, Bradford\, Union\, Columbia\, Baker\, Nassau\, Duval\, Clay\, Putnam\, St. Johns\, Flagler counties are invited to join the Florida Department of Agriculture and Consumer Services (FDACS) for our Region 2 “Bringing the Farm to School” producer training. \nBringing the Farm to School trainings are intended for food producers interested in learning about selling food into school markets. \nDuring this training\, you will: \n\nLearn about the Florida Farm to School initiative\nUncover opportunities to market and sell your products to Florida schools\nMeet and network with School Food Authorities in Northwest Florida\, responsible for sourcing foods for school meals\nLearn about business planning when growing for schools\nDiscover which of your products are fit for school meals\nLearn about food safety and standards in schools\nTour a local farm currently serving schools\nAnd more!\n\nTo register for this immersive two-day training\, please contact Bela.Delgado@fdacs.gov.
URL:https://farmtoschoolfl.com/event/bringing-the-farm-to-school-training-region-2/
LOCATION:UF/IFAS Extension Alachua County\, 22712 W Newberry Road\, Newberry\, FL\, 32669\, United States
END:VEVENT
BEGIN:VEVENT
DTSTART;VALUE=DATE:20240306
DTEND;VALUE=DATE:20240309
DTSTAMP:20260419T113858
CREATED:20240228T200213Z
LAST-MODIFIED:20240228T200300Z
UID:10000005-1709683200-1709942399@farmtoschoolfl.com
SUMMARY:2024 Florida Farm to School Conference
DESCRIPTION:The Annual Florida Farm to School Conference was created to connect with schools\, distributors and producers across Florida. This year’s theme\, Sowing Success\, will guide conference guests through the three pillars of Farm to School: \n\nSchool Gardens\nAgricultural Education\nProcurement\n\nView Conference Agenda \nLearn More About the Conference
URL:https://farmtoschoolfl.com/event/2024-florida-farm-to-school-conference/
LOCATION:The Renaissance Orlando at SeaWorld\, 6677 Sea Harbor Drive\, Orlando\, FL\, 32821\, United States
END:VEVENT
BEGIN:VEVENT
DTSTART;TZID=America/New_York:20231108T100000
DTEND;TZID=America/New_York:20231108T150000
DTSTAMP:20260419T113858
CREATED:20230927T232724Z
LAST-MODIFIED:20240908T003543Z
UID:10000004-1699437600-1699455600@farmtoschoolfl.com
SUMMARY:Bringing the Farm to School Producer Training (Northwest Florida) - Day 2
DESCRIPTION:Farmers\, fishers\, ranchers\, food processors and food manufacturers in Northwest Florida are invited to join the Florida Department of Agriculture and Consumer Services (FDACS) for our first-ever “Bringing the Farm to School” two-day producer training. \nBringing the Farm to School trainings are intended for food producers interested in learning about selling food into school markets. \nDuring this training\, you will: \n\nLearn about the Florida Farm to School initiative\nUncover opportunities to market and sell your products to Florida schools\nMeet and network with School Food Authorities in Northwest Florida\, responsible for sourcing foods for school meals\nLearn about business planning when growing for schools\nDiscover which of your products are fit for school meals\nLearn about food safety and standards in schools\nTour two local farms current serving schools\nAnd more!\n\nTo register for this immersive two-day training\, please contact Bela.Delgado@fdacs.gov.
URL:https://farmtoschoolfl.com/event/bringing-the-farm-to-school-producer-training-northwest-florida-day-2/
LOCATION:FAMU Viticulture Center\, 6361 Mahan Drive\, Tallahassee\, FL\, 32308\, United States
ATTACH;FMTTYPE=image/jpeg:https://farmtoschoolfl.com/wp-content/uploads/2023/09/F2S_Producer-Training-Event-1.jpg
ORGANIZER;CN="Natasha Smith":MAILTO:Natasha.Smith@fdacs.gov
END:VEVENT
BEGIN:VEVENT
DTSTART;TZID=America/New_York:20231107T100000
DTEND;TZID=America/New_York:20231107T150000
DTSTAMP:20260419T113858
CREATED:20230927T233433Z
LAST-MODIFIED:20240908T003658Z
UID:10000002-1699351200-1699369200@farmtoschoolfl.com
SUMMARY:Bringing the Farm to School Producer Training (Northwest Florida) - Day 1
DESCRIPTION:Farmers\, fishers\, ranchers\, food processors and food manufacturers in Northwest Florida are invited to join the Florida Department of Agriculture and Consumer Services (FDACS) for our first-ever “Bringing the Farm to School” two-day producer training. \nBringing the Farm to School trainings are intended for food producers interested in learning about selling food into school markets. \nDuring this training\, you will: \n\nLearn about the Florida Farm to School initiative\nUncover opportunities to market and sell your products to Florida schools\nMeet and network with School Food Authorities in Northwest Florida\, responsible for sourcing foods for school meals\nLearn about business planning when growing for schools\nDiscover which of your products are fit for school meals\nLearn about food safety and standards in schools\nTour two local farms current serving schools\nAnd more!\n\nTo register for this immersive two-day training\, please contact Bela.Delgado@fdacs.gov.
URL:https://farmtoschoolfl.com/event/bringing-the-farm-to-school-producer-training-northwest-florida-day-1/
LOCATION:Virtual
ATTACH;FMTTYPE=image/jpeg:https://farmtoschoolfl.com/wp-content/uploads/2023/09/F2S_Producer-Training-Event-1.jpg
ORGANIZER;CN="Natasha Smith":MAILTO:Natasha.Smith@fdacs.gov
END:VEVENT
END:VCALENDAR