BEGIN:VCALENDAR
VERSION:2.0
PRODID:-//Florida Farm to School - ECPv6.15.20//NONSGML v1.0//EN
CALSCALE:GREGORIAN
METHOD:PUBLISH
X-WR-CALNAME:Florida Farm to School
X-ORIGINAL-URL:https://farmtoschoolfl.com/ht
X-WR-CALDESC:Events for Florida Farm to School
REFRESH-INTERVAL;VALUE=DURATION:PT1H
X-Robots-Tag:noindex
X-PUBLISHED-TTL:PT1H
BEGIN:VTIMEZONE
TZID:America/New_York
BEGIN:DAYLIGHT
TZOFFSETFROM:-0500
TZOFFSETTO:-0400
TZNAME:EDT
DTSTART:20240310T070000
END:DAYLIGHT
BEGIN:STANDARD
TZOFFSETFROM:-0400
TZOFFSETTO:-0500
TZNAME:EST
DTSTART:20241103T060000
END:STANDARD
BEGIN:DAYLIGHT
TZOFFSETFROM:-0500
TZOFFSETTO:-0400
TZNAME:EDT
DTSTART:20250309T070000
END:DAYLIGHT
BEGIN:STANDARD
TZOFFSETFROM:-0400
TZOFFSETTO:-0500
TZNAME:EST
DTSTART:20251102T060000
END:STANDARD
BEGIN:DAYLIGHT
TZOFFSETFROM:-0500
TZOFFSETTO:-0400
TZNAME:EDT
DTSTART:20260308T070000
END:DAYLIGHT
BEGIN:STANDARD
TZOFFSETFROM:-0400
TZOFFSETTO:-0500
TZNAME:EST
DTSTART:20261101T060000
END:STANDARD
END:VTIMEZONE
BEGIN:VEVENT
DTSTART;TZID=America/New_York:20250723T090000
DTEND;TZID=America/New_York:20250723T150000
DTSTAMP:20260423T074336
CREATED:20250514T164743Z
LAST-MODIFIED:20250708T151503Z
UID:10000279-1753261200-1753282800@farmtoschoolfl.com
SUMMARY:Region 4 Bringing the Farm to School Training
DESCRIPTION:Are you a Florida farmer or producer looking to expand your business? Do you play a role in purchasing food for students’ school meals? Or maybe you’re a community partner passionate about local agriculture and students’ nutrition. \nFDACS’s free\, one-day “Bringing the Farm to School” training sessions teach Florida producers and schools proven methods for partnering to provide students nutritious local foods\, while supporting local farmers. \nRegion 4 Training\nDate: Wednesday\, July 23 \nTime: 9am-3pm – Breakfast will be available at 8am \nLocation: Embassy Suites by Hilton Tampa Brandon\n10220 Palm River Rd\, Tampa\, FL 33619 \nOpen to farmers\, producers\, NSLP sponsors and partners in Pasco\, Pinellas\, Hillsborough\, Polk\, Manatee\, Hardee\, Sarasota\, DeSoto and Highlands counties. \nRegister Now \nBenefits of attending this training include: \n\nLearning how Florida’s Farm to School initiative benefits schools and supports regional farmers – and how you can get involved.\nProducers learn about accessing and selling to school markets\, the procurement process and growing products for school markets.\nSchools learn more about navigating the procurement process\, and tips to help facilitate partnerships with local farmers.\nHearing from and networking with local schools and producers who have successfully worked together.\nDiscovering resources available to help schools and farmers collaborate.\nHaving your questions answered!\n\nFor questions or to be notified about future trainings\, please contact Jason.Dial@fdacs.gov.
URL:https://farmtoschoolfl.com/ht/event/region-4-bringing-the-farm-to-school-training/
END:VEVENT
END:VCALENDAR