BEGIN:VCALENDAR
VERSION:2.0
PRODID:-//Florida Farm to School - ECPv6.15.20//NONSGML v1.0//EN
CALSCALE:GREGORIAN
METHOD:PUBLISH
X-WR-CALNAME:Florida Farm to School
X-ORIGINAL-URL:https://farmtoschoolfl.com
X-WR-CALDESC:Events for Florida Farm to School
REFRESH-INTERVAL;VALUE=DURATION:PT1H
X-Robots-Tag:noindex
X-PUBLISHED-TTL:PT1H
BEGIN:VTIMEZONE
TZID:America/New_York
BEGIN:DAYLIGHT
TZOFFSETFROM:-0500
TZOFFSETTO:-0400
TZNAME:EDT
DTSTART:20240310T070000
END:DAYLIGHT
BEGIN:STANDARD
TZOFFSETFROM:-0400
TZOFFSETTO:-0500
TZNAME:EST
DTSTART:20241103T060000
END:STANDARD
BEGIN:DAYLIGHT
TZOFFSETFROM:-0500
TZOFFSETTO:-0400
TZNAME:EDT
DTSTART:20250309T070000
END:DAYLIGHT
BEGIN:STANDARD
TZOFFSETFROM:-0400
TZOFFSETTO:-0500
TZNAME:EST
DTSTART:20251102T060000
END:STANDARD
BEGIN:DAYLIGHT
TZOFFSETFROM:-0500
TZOFFSETTO:-0400
TZNAME:EDT
DTSTART:20260308T070000
END:DAYLIGHT
BEGIN:STANDARD
TZOFFSETFROM:-0400
TZOFFSETTO:-0500
TZNAME:EST
DTSTART:20261101T060000
END:STANDARD
END:VTIMEZONE
BEGIN:VEVENT
DTSTART;TZID=America/New_York:20250430T150000
DTEND;TZID=America/New_York:20250430T163000
DTSTAMP:20260420T050413
CREATED:20250320T121542Z
LAST-MODIFIED:20250408T120810Z
UID:10000015-1746025200-1746030600@farmtoschoolfl.com
SUMMARY:Focus Group: Region 4 Schools
DESCRIPTION:Are you interested in sourcing fresh\, local produce for your school meals? Your insights are essential! \nJoin us to discuss the opportunities and challenges you face partnering with local farmers. Your participation will help shape future initiatives that support local students and agriculture. \nDate: Wednesday\, April 30\nTime: 3 – 4:30 pm\nLocation:\nUF/IFAS Extension\, Hillsborough County\n5339 County Road 579\, Seffner\, FL 33584 \nOpen to NSLP Sponsors in the following Florida counties: Hillsborough\, Pinellas\, Polk\, Pasco\, Manatee\, Sarasota\, Highlands\, DeSoto\, Hardee. \nWhy Attend? \n\nHave your voice heard.\nInfluence how Florida farmers and schools work together.\nConnect with other local schools and exchange ideas.\n\nRSVP by Wednesday\, April 23 to Jason.Dial@fdacs.gov or 850-617-7179. \nSpace is limited.
URL:https://farmtoschoolfl.com/event/focus-group-region-4-schools/
LOCATION:UF/IFAS Extension\, Hillsborough County\, 5339 County Road 579\, Seffner\, FL\, 33584\, United States
END:VEVENT
BEGIN:VEVENT
DTSTART;TZID=America/New_York:20250430T120000
DTEND;TZID=America/New_York:20250430T133000
DTSTAMP:20260420T050413
CREATED:20250320T121607Z
LAST-MODIFIED:20250814T225513Z
UID:10000012-1746014400-1746019800@farmtoschoolfl.com
SUMMARY:Focus Group: Region 4 Farmers & Producers
DESCRIPTION:Are you a farmer or producer looking to expand your market by selling to schools? Your insights are essential! \nJoin us to discuss the opportunities and barriers you face. Your participation will help shape future initiatives that support local agriculture and students. \nDate: Wednesday\, April 30\nTime: 12 – 1:30 pm\nLocation:\nUF/IFAS Extension\, Hillsborough County\n5339 County Road 579\, Seffner\, FL 33584 \nOpen to farmers and producers in the following Florida counties: Hillsborough\, Pinellas\, Polk\, Pasco\, Manatee\, Sarasota\, Highlands\, DeSoto\, Hardee. \nWhy Attend? \n\nHave your voice heard.\nInfluence how Florida farmers and schools work together.\nConnect with other local farmers and exchange ideas.\n\nRSVP by Wednesday\, April 23 to Jason.Dial@fdacs.gov or 850-617-7179. \nSpace is limited.
URL:https://farmtoschoolfl.com/event/focus-group-region-4-farmers-producers/
LOCATION:UF/IFAS Extension\, Hillsborough County\, 5339 County Road 579\, Seffner\, FL\, 33584\, United States
CATEGORIES:Farmers
END:VEVENT
BEGIN:VEVENT
DTSTART;TZID=America/New_York:20250430T090000
DTEND;TZID=America/New_York:20250430T103000
DTSTAMP:20260420T050413
CREATED:20250320T121634Z
LAST-MODIFIED:20250327T151448Z
UID:10000016-1746003600-1746009000@farmtoschoolfl.com
SUMMARY:Focus Group: Region 4 Agricultural Partners
DESCRIPTION:Are you invested in supporting local farmers and schools? Your insights are essential! \nJoin us to discuss the opportunities and challenges you face fostering strong Farm to School connections. Your participation will help shape future initiatives that support local students and agriculture. \nDate: Wednesday\, April 30\nTime: 9 – 10:30 am\nLocation:\nUF/IFAS Extension\, Hillsborough County\n5339 County Road 579\, Seffner\, FL 33584 \nOpen to agricultural leaders in the following Florida counties: Hillsborough\, Pinellas\, Polk\, Pasco\, Manatee\, Sarasota\, Highlands\, DeSoto\, Hardee. \nWhy Attend? \n\nHave your voice heard.\nInfluence how Florida farmers and schools work together.\nConnect with other local agricultural stakeholders and exchange ideas.\n\nRSVP by Wednesday\, April 23 to Jason.Dial@fdacs.gov or 850-617-7179. \nSpace is limited.
URL:https://farmtoschoolfl.com/event/focus-group-region-4-agricultural-partners/
LOCATION:UF/IFAS Extension\, Hillsborough County\, 5339 County Road 579\, Seffner\, FL\, 33584\, United States
END:VEVENT
END:VCALENDAR